BEGIN:VCALENDAR
VERSION:2.0
PRODID:-//Welsh Pétanque Association - ECPv6.15.20//NONSGML v1.0//EN
CALSCALE:GREGORIAN
METHOD:PUBLISH
X-WR-CALNAME:Welsh Pétanque Association
X-ORIGINAL-URL:https://www.welshpetanque.org.uk
X-WR-CALDESC:Events for Welsh Pétanque Association
REFRESH-INTERVAL;VALUE=DURATION:PT1H
X-Robots-Tag:noindex
X-PUBLISHED-TTL:PT1H
BEGIN:VTIMEZONE
TZID:Europe/London
BEGIN:DAYLIGHT
TZOFFSETFROM:+0000
TZOFFSETTO:+0100
TZNAME:BST
DTSTART:20250330T010000
END:DAYLIGHT
BEGIN:STANDARD
TZOFFSETFROM:+0100
TZOFFSETTO:+0000
TZNAME:GMT
DTSTART:20251026T010000
END:STANDARD
BEGIN:DAYLIGHT
TZOFFSETFROM:+0000
TZOFFSETTO:+0100
TZNAME:BST
DTSTART:20260329T010000
END:DAYLIGHT
BEGIN:STANDARD
TZOFFSETFROM:+0100
TZOFFSETTO:+0000
TZNAME:GMT
DTSTART:20261025T010000
END:STANDARD
BEGIN:DAYLIGHT
TZOFFSETFROM:+0000
TZOFFSETTO:+0100
TZNAME:BST
DTSTART:20270328T010000
END:DAYLIGHT
BEGIN:STANDARD
TZOFFSETFROM:+0100
TZOFFSETTO:+0000
TZNAME:GMT
DTSTART:20271031T010000
END:STANDARD
END:VTIMEZONE
BEGIN:VEVENT
DTSTART;VALUE=DATE:20260208
DTEND;VALUE=DATE:20260209
DTSTAMP:20260420T204837
CREATED:20240906T161132Z
LAST-MODIFIED:20251130T195711Z
UID:16667-1770508800-1770595199@www.welshpetanque.org.uk
SUMMARY:Over 50s Round 1
DESCRIPTION:
URL:https://www.welshpetanque.org.uk/event/over-50s-grand-prix-1/
LOCATION:Leicester Petanque Club\, Western Park\, Hinckley Road\, Leicester\, England\, Western Park\, Hinckley LE3 6HX\, United Kingdom
CATEGORIES:Open Competition
ORGANIZER;CN="Classic Petanque Events":MAILTO:martininglis@hotmail.com
END:VEVENT
BEGIN:VEVENT
DTSTART;TZID=Europe/London:20260208T093000
DTEND;TZID=Europe/London:20260208T163000
DTSTAMP:20260420T204837
CREATED:20250207T085814Z
LAST-MODIFIED:20251130T190721Z
UID:17383-1770543000-1770568200@www.welshpetanque.org.uk
SUMMARY:3-2-1 Series
DESCRIPTION:The 3-2-1 series returns! Each competition starts and finishes with your team playing triples – in between your team splits to play parallel doubles and singles games.\n\nAs with last year\, we are running the 3-2-1 as a competition series. You can enter a single comp or – if you are up for a challenge – you can enter all 3 events. Teams entering more than one event accumulate points towards a season ranking: can your mini-squad take the top spot?\n\nAround 70% of the entry fee for each event will go back as prizes on the day\, with 15% going into the accumulator pot. If we have 12 teams at each event this means 1st\, 2nd\, and 3rd prizes of £60\, £45and £30 on the day\, with £36 going into the accumulator pot.\n\nEach competition is limited to 12 teams of 3 players*. This is an Open event so no licence is needed. The coffee shop should be open – and they serve good food too – but feel free to bring lunch and flask: the bar will open at 12pm.\n\nRegistration is 9.15 to 9.30. We will play timed games\, and should be wrapped up by 4.30pm.\n\nEntry is £21 per team for each competition\, and is secured by pre-pay only.\n\nTo register\, email caerleon.petanque@yahoo.co.uk – we will send bank info and rules by return\n*teams entering more than one event can include a 4th player for the series – but only 3 can play on the day: but please note rules for teams of 4 which will be sent out in response to email enquiries.
URL:https://www.welshpetanque.org.uk/event/3-2-1-series-2/
LOCATION:Caerleon RFC PC\, The Clubhouse\, Broadway\, Caerleon\, Newport\, Wales\, NP18 1AY\, United Kingdom
CATEGORIES:Open Competition
ORGANIZER;CN="Caerleon RFC PC":MAILTO:caerleon.petanque@yahoo.co.uk
END:VEVENT
END:VCALENDAR