BEGIN:VCALENDAR
VERSION:2.0
PRODID:-//Welsh Pétanque Association - ECPv6.15.20//NONSGML v1.0//EN
CALSCALE:GREGORIAN
METHOD:PUBLISH
X-WR-CALNAME:Welsh Pétanque Association
X-ORIGINAL-URL:https://www.welshpetanque.org.uk
X-WR-CALDESC:Events for Welsh Pétanque Association
REFRESH-INTERVAL;VALUE=DURATION:PT1H
X-Robots-Tag:noindex
X-PUBLISHED-TTL:PT1H
BEGIN:VTIMEZONE
TZID:Europe/London
BEGIN:DAYLIGHT
TZOFFSETFROM:+0000
TZOFFSETTO:+0100
TZNAME:BST
DTSTART:20250330T010000
END:DAYLIGHT
BEGIN:STANDARD
TZOFFSETFROM:+0100
TZOFFSETTO:+0000
TZNAME:GMT
DTSTART:20251026T010000
END:STANDARD
BEGIN:DAYLIGHT
TZOFFSETFROM:+0000
TZOFFSETTO:+0100
TZNAME:BST
DTSTART:20260329T010000
END:DAYLIGHT
BEGIN:STANDARD
TZOFFSETFROM:+0100
TZOFFSETTO:+0000
TZNAME:GMT
DTSTART:20261025T010000
END:STANDARD
BEGIN:DAYLIGHT
TZOFFSETFROM:+0000
TZOFFSETTO:+0100
TZNAME:BST
DTSTART:20270328T010000
END:DAYLIGHT
BEGIN:STANDARD
TZOFFSETFROM:+0100
TZOFFSETTO:+0000
TZNAME:GMT
DTSTART:20271031T010000
END:STANDARD
END:VTIMEZONE
BEGIN:VEVENT
DTSTART;VALUE=DATE:20260618
DTEND;VALUE=DATE:20260622
DTSTAMP:20260420T153141
CREATED:20250916T123433Z
LAST-MODIFIED:20250916T123433Z
UID:18776-1781740800-1782086399@www.welshpetanque.org.uk
SUMMARY:5th EC Singles : Men/Women
DESCRIPTION:
URL:https://www.welshpetanque.org.uk/event/5th-ec-singles-men-women/
LOCATION:Lorca\, Murcia\, Spain\, Lorca\, Murcia\, Spain
END:VEVENT
BEGIN:VEVENT
DTSTART;VALUE=DATE:20260618
DTEND;VALUE=DATE:20260622
DTSTAMP:20260420T153141
CREATED:20250916T124656Z
LAST-MODIFIED:20250916T124656Z
UID:18779-1781740800-1782086399@www.welshpetanque.org.uk
SUMMARY:3th EC Doubles : Men/Women/Mixed
DESCRIPTION:
URL:https://www.welshpetanque.org.uk/event/3th-ec-doubles-men-women-mixed/
LOCATION:Lorca\, Murcia\, Spain\, Lorca\, Murcia\, Spain
END:VEVENT
END:VCALENDAR