BEGIN:VCALENDAR
VERSION:2.0
PRODID:-//Welsh Pétanque Association - ECPv6.15.20//NONSGML v1.0//EN
CALSCALE:GREGORIAN
METHOD:PUBLISH
X-ORIGINAL-URL:https://www.welshpetanque.org.uk
X-WR-CALDESC:Events for Welsh Pétanque Association
REFRESH-INTERVAL;VALUE=DURATION:PT1H
X-Robots-Tag:noindex
X-PUBLISHED-TTL:PT1H
BEGIN:VTIMEZONE
TZID:Europe/London
BEGIN:DAYLIGHT
TZOFFSETFROM:+0000
TZOFFSETTO:+0100
TZNAME:BST
DTSTART:20230326T010000
END:DAYLIGHT
BEGIN:STANDARD
TZOFFSETFROM:+0100
TZOFFSETTO:+0000
TZNAME:GMT
DTSTART:20231029T010000
END:STANDARD
BEGIN:DAYLIGHT
TZOFFSETFROM:+0000
TZOFFSETTO:+0100
TZNAME:BST
DTSTART:20240331T010000
END:DAYLIGHT
BEGIN:STANDARD
TZOFFSETFROM:+0100
TZOFFSETTO:+0000
TZNAME:GMT
DTSTART:20241027T010000
END:STANDARD
BEGIN:DAYLIGHT
TZOFFSETFROM:+0000
TZOFFSETTO:+0100
TZNAME:BST
DTSTART:20250330T010000
END:DAYLIGHT
BEGIN:STANDARD
TZOFFSETFROM:+0100
TZOFFSETTO:+0000
TZNAME:GMT
DTSTART:20251026T010000
END:STANDARD
BEGIN:DAYLIGHT
TZOFFSETFROM:+0000
TZOFFSETTO:+0100
TZNAME:BST
DTSTART:20260329T010000
END:DAYLIGHT
BEGIN:STANDARD
TZOFFSETFROM:+0100
TZOFFSETTO:+0000
TZNAME:GMT
DTSTART:20261025T010000
END:STANDARD
END:VTIMEZONE
BEGIN:VEVENT
DTSTART;VALUE=DATE:20251106
DTEND;VALUE=DATE:20251110
DTSTAMP:20260421T132249
CREATED:20250104T125917Z
LAST-MODIFIED:20250104T125917Z
UID:17257-1762387200-1762732799@www.welshpetanque.org.uk
SUMMARY:27th European Cup
DESCRIPTION:
URL:https://www.welshpetanque.org.uk/event/27th-european-cup/
LOCATION:Boulodrome du Douaisis\, 150 rue Joséphine Baker\, Sin-le-Noble\, 59450\, France
CATEGORIES:European Championship,International Event
END:VEVENT
BEGIN:VEVENT
DTSTART;TZID=Europe/London:20250817T080000
DTEND;TZID=Europe/London:20250817T170000
DTSTAMP:20260421T132249
CREATED:20250717T170116Z
LAST-MODIFIED:20250717T170133Z
UID:18513-1755417600-1755450000@www.welshpetanque.org.uk
SUMMARY:Vale PC Open Doubles - European Cup Fundraiser
DESCRIPTION:VALE PETANQUE CLUB are holding an Open Doubles event in aid of their European Cup Team who will be travelling to France\nin November to represent Wales. \n \nCash Prizes\, Raffle will be available \nSunday 17th August 2025\nRegistration: 9:00\, start 9:30\nCup and Plate \n£15 per team. \nStation Road East\,\nWenvoe CF5 6AH\nvalepetanque25@gmail.com
URL:https://www.welshpetanque.org.uk/event/vale-pc-open-doubles-european-cup-fundraiser/
LOCATION:Vale Petanque Club\, Wenvoe Playing Fields\, Station Road East\, Wenvoe\, Wales\, CF5 6AH\, United Kingdom
CATEGORIES:Club,European Championship,Open Competition
END:VEVENT
BEGIN:VEVENT
DTSTART;VALUE=DATE:20250712
DTEND;VALUE=DATE:20250716
DTSTAMP:20260421T132249
CREATED:20250104T124230Z
LAST-MODIFIED:20250104T124230Z
UID:17244-1752278400-1752623999@www.welshpetanque.org.uk
SUMMARY:4th EC Triples: Veterans
DESCRIPTION:
URL:https://www.welshpetanque.org.uk/event/4th-ec-triples-veterans/
LOCATION:Santa Susanna\, Spain\, Spain
CATEGORIES:European Championship
END:VEVENT
BEGIN:VEVENT
DTSTART;VALUE=DATE:20241107
DTEND;VALUE=DATE:20241111
DTSTAMP:20260421T132249
CREATED:20240905T150256Z
LAST-MODIFIED:20240905T150256Z
UID:16631-1730937600-1731283199@www.welshpetanque.org.uk
SUMMARY:26th European Cup
DESCRIPTION:
URL:https://www.welshpetanque.org.uk/event/26th-european-cup/
LOCATION:Boulodrome du Douaisis\, 150 rue Joséphine Baker\, Sin-le-Noble\, 59450\, France
CATEGORIES:European Championship
END:VEVENT
END:VCALENDAR