BEGIN:VCALENDAR
VERSION:2.0
PRODID:-//Welsh Pétanque Association - ECPv6.15.20//NONSGML v1.0//EN
CALSCALE:GREGORIAN
METHOD:PUBLISH
X-WR-CALNAME:Welsh Pétanque Association
X-ORIGINAL-URL:https://www.welshpetanque.org.uk
X-WR-CALDESC:Events for Welsh Pétanque Association
REFRESH-INTERVAL;VALUE=DURATION:PT1H
X-Robots-Tag:noindex
X-PUBLISHED-TTL:PT1H
BEGIN:VTIMEZONE
TZID:Europe/London
BEGIN:DAYLIGHT
TZOFFSETFROM:+0000
TZOFFSETTO:+0100
TZNAME:BST
DTSTART:20240331T010000
END:DAYLIGHT
BEGIN:STANDARD
TZOFFSETFROM:+0100
TZOFFSETTO:+0000
TZNAME:GMT
DTSTART:20241027T010000
END:STANDARD
BEGIN:DAYLIGHT
TZOFFSETFROM:+0000
TZOFFSETTO:+0100
TZNAME:BST
DTSTART:20250330T010000
END:DAYLIGHT
BEGIN:STANDARD
TZOFFSETFROM:+0100
TZOFFSETTO:+0000
TZNAME:GMT
DTSTART:20251026T010000
END:STANDARD
BEGIN:DAYLIGHT
TZOFFSETFROM:+0000
TZOFFSETTO:+0100
TZNAME:BST
DTSTART:20260329T010000
END:DAYLIGHT
BEGIN:STANDARD
TZOFFSETFROM:+0100
TZOFFSETTO:+0000
TZNAME:GMT
DTSTART:20261025T010000
END:STANDARD
BEGIN:DAYLIGHT
TZOFFSETFROM:+0000
TZOFFSETTO:+0100
TZNAME:BST
DTSTART:20270328T010000
END:DAYLIGHT
BEGIN:STANDARD
TZOFFSETFROM:+0100
TZOFFSETTO:+0000
TZNAME:GMT
DTSTART:20271031T010000
END:STANDARD
END:VTIMEZONE
BEGIN:VEVENT
DTSTART;VALUE=DATE:20260419
DTEND;VALUE=DATE:20260420
DTSTAMP:20260421T145511
CREATED:20240906T163939Z
LAST-MODIFIED:20251117T143555Z
UID:16684-1776556800-1776643199@www.welshpetanque.org.uk
SUMMARY:Over 50s Top 16 Finals
DESCRIPTION:
URL:https://www.welshpetanque.org.uk/event/over-50s-top-16-finals/
LOCATION:Oxshott PC\, OVSC\, Steel's Lane\, Oxshott\, England\, KT22 0RF\, United Kingdom
CATEGORIES:Open Competition
ORGANIZER;CN="Classic Petanque Events":MAILTO:martininglis@hotmail.com
END:VEVENT
BEGIN:VEVENT
DTSTART;VALUE=DATE:20260412
DTEND;VALUE=DATE:20260413
DTSTAMP:20260421T145511
CREATED:20241118T125357Z
LAST-MODIFIED:20260226T204152Z
UID:17178-1775952000-1776038399@www.welshpetanque.org.uk
SUMMARY:Monkstone Open Doubles
DESCRIPTION:This is a date change from the 5th April (Easter Sunday) to Sunday 12th April.
URL:https://www.welshpetanque.org.uk/event/open-doubles/
LOCATION:Monkstone Petanque Club\, The Penylan Club\, Marlborough Road\, Cardiff\, Wales\, CF23 5BU\, United Kingdom
CATEGORIES:Open Competition
ORGANIZER;CN="Monkstone PC":MAILTO:secretary@monkstonepetanque.org.uk
END:VEVENT
BEGIN:VEVENT
DTSTART;VALUE=DATE:20260329
DTEND;VALUE=DATE:20260330
DTSTAMP:20260421T145511
CREATED:20240906T163406Z
LAST-MODIFIED:20251117T144155Z
UID:16680-1774742400-1774828799@www.welshpetanque.org.uk
SUMMARY:Over 50s Round 4
DESCRIPTION:
URL:https://www.welshpetanque.org.uk/event/over-50s-grand-prix-4/
LOCATION:City of Bath Petanque Club\, Charlcombe Lane\, Bath\, England\, BA1 6NR\, United Kingdom
CATEGORIES:Open Competition
ORGANIZER;CN="Classic Petanque Events":MAILTO:martininglis@hotmail.com
END:VEVENT
BEGIN:VEVENT
DTSTART;VALUE=DATE:20260322
DTEND;VALUE=DATE:20260323
DTSTAMP:20260421T145511
CREATED:20240918T171010Z
LAST-MODIFIED:20260304T111129Z
UID:16762-1774137600-1774223999@www.welshpetanque.org.uk
SUMMARY:President's Cup
DESCRIPTION:This form is closed for submissions.
URL:https://www.welshpetanque.org.uk/event/presidents-cup/
LOCATION:Monkstone Petanque Club\, The Penylan Club\, Marlborough Road\, Cardiff\, Wales\, CF23 5BU\, United Kingdom
CATEGORIES:Members,Open Competition
ORGANIZER;CN="WPA":MAILTO:secretary@welshpetanque.org.uk
END:VEVENT
BEGIN:VEVENT
DTSTART;TZID=Europe/London:20260321T130000
DTEND;TZID=Europe/London:20260321T160000
DTSTAMP:20260421T145511
CREATED:20240918T171110Z
LAST-MODIFIED:20260304T111239Z
UID:16760-1774098000-1774108800@www.welshpetanque.org.uk
SUMMARY:President's Novice Cup
DESCRIPTION:This form is closed for submissions.
URL:https://www.welshpetanque.org.uk/event/presidents-novice-cup/
LOCATION:Monkstone Petanque Club\, The Penylan Club\, Marlborough Road\, Cardiff\, Wales\, CF23 5BU\, United Kingdom
CATEGORIES:Open Competition
ORGANIZER;CN="WPA":MAILTO:secretary@welshpetanque.org.uk
END:VEVENT
BEGIN:VEVENT
DTSTART;VALUE=DATE:20260314
DTEND;VALUE=DATE:20260315
DTSTAMP:20260421T145511
CREATED:20240906T162354Z
LAST-MODIFIED:20251117T144856Z
UID:16677-1773446400-1773532799@www.welshpetanque.org.uk
SUMMARY:Over 50s Round 3
DESCRIPTION:
URL:https://www.welshpetanque.org.uk/event/over-50s-grand-prix-3/
LOCATION:Adur PC\, South Downs Leisure Centre\, Lancing Manor\, Old Shoreham Road\, Lancing\, West Sussex\, BN15 0PH\, United Kingdom
CATEGORIES:Open Competition
ORGANIZER;CN="Classic Petanque Events":MAILTO:martininglis@hotmail.com
END:VEVENT
BEGIN:VEVENT
DTSTART;TZID=Europe/London:20260308T093000
DTEND;TZID=Europe/London:20260308T163000
DTSTAMP:20260421T145511
CREATED:20250207T090005Z
LAST-MODIFIED:20251130T191050Z
UID:17385-1772962200-1772987400@www.welshpetanque.org.uk
SUMMARY:3-2-1 Series
DESCRIPTION:The 3-2-1 series returns! Each competition starts and finishes with your team playing triples – in between your team splits to play parallel doubles and singles games.\n\nAs with last year\, we are running the 3-2-1 as a competition series. You can enter a single comp or – if you are up for a challenge – you can enter all 3 events. Teams entering more than one event accumulate points towards a season ranking: can your mini-squad take the top spot?\n\nAround 70% of the entry fee for each event will go back as prizes on the day\, with 15% going into the accumulator pot. If we have 12 teams at each event this means 1st\, 2nd\, and 3rd prizes of £60\, £45and £30 on the day\, with £36 going into the accumulator pot.\n\nEach competition is limited to 12 teams of 3 players*. This is an Open event so no licence is needed. The coffee shop should be open – and they serve good food too – but feel free to bring lunch and flask: the bar will open at 12pm.\n\nRegistration is 9.15 to 9.30. We will play timed games\, and should be wrapped up by 4.30pm.\n\nEntry is £21 per team for each competition\, and is secured by pre-pay only.\n\nTo register\, email caerleon.petanque@yahoo.co.uk – we will send bank info and rules by return\n*teams entering more than one event can include a 4th player for the series – but only 3 can play on the day: but please note rules for teams of 4 which will be sent out in response to email enquiries.
URL:https://www.welshpetanque.org.uk/event/3-2-1-series-3/
LOCATION:Caerleon RFC PC\, The Clubhouse\, Broadway\, Caerleon\, Newport\, Wales\, NP18 1AY\, United Kingdom
CATEGORIES:Open Competition
ORGANIZER;CN="Caerleon RFC PC":MAILTO:caerleon.petanque@yahoo.co.uk
END:VEVENT
BEGIN:VEVENT
DTSTART;TZID=Europe/London:20260222T080000
DTEND;TZID=Europe/London:20260222T170000
DTSTAMP:20260421T145511
CREATED:20251130T201929Z
LAST-MODIFIED:20251130T201929Z
UID:18989-1771747200-1771779600@www.welshpetanque.org.uk
SUMMARY:Over 50s Round 2
DESCRIPTION:
URL:https://www.welshpetanque.org.uk/event/over-50s-round-2/
LOCATION:Lordswood PC\, Lordswood Sports & Social Club\, North Dane Way\, Chatham\, Kent\, ME5 8YL\, United Kingdom
CATEGORIES:Open Competition
END:VEVENT
BEGIN:VEVENT
DTSTART;TZID=Europe/London:20260208T093000
DTEND;TZID=Europe/London:20260208T163000
DTSTAMP:20260421T145511
CREATED:20250207T085814Z
LAST-MODIFIED:20251130T190721Z
UID:17383-1770543000-1770568200@www.welshpetanque.org.uk
SUMMARY:3-2-1 Series
DESCRIPTION:The 3-2-1 series returns! Each competition starts and finishes with your team playing triples – in between your team splits to play parallel doubles and singles games.\n\nAs with last year\, we are running the 3-2-1 as a competition series. You can enter a single comp or – if you are up for a challenge – you can enter all 3 events. Teams entering more than one event accumulate points towards a season ranking: can your mini-squad take the top spot?\n\nAround 70% of the entry fee for each event will go back as prizes on the day\, with 15% going into the accumulator pot. If we have 12 teams at each event this means 1st\, 2nd\, and 3rd prizes of £60\, £45and £30 on the day\, with £36 going into the accumulator pot.\n\nEach competition is limited to 12 teams of 3 players*. This is an Open event so no licence is needed. The coffee shop should be open – and they serve good food too – but feel free to bring lunch and flask: the bar will open at 12pm.\n\nRegistration is 9.15 to 9.30. We will play timed games\, and should be wrapped up by 4.30pm.\n\nEntry is £21 per team for each competition\, and is secured by pre-pay only.\n\nTo register\, email caerleon.petanque@yahoo.co.uk – we will send bank info and rules by return\n*teams entering more than one event can include a 4th player for the series – but only 3 can play on the day: but please note rules for teams of 4 which will be sent out in response to email enquiries.
URL:https://www.welshpetanque.org.uk/event/3-2-1-series-2/
LOCATION:Caerleon RFC PC\, The Clubhouse\, Broadway\, Caerleon\, Newport\, Wales\, NP18 1AY\, United Kingdom
CATEGORIES:Open Competition
ORGANIZER;CN="Caerleon RFC PC":MAILTO:caerleon.petanque@yahoo.co.uk
END:VEVENT
BEGIN:VEVENT
DTSTART;VALUE=DATE:20260208
DTEND;VALUE=DATE:20260209
DTSTAMP:20260421T145511
CREATED:20240906T161132Z
LAST-MODIFIED:20251130T195711Z
UID:16667-1770508800-1770595199@www.welshpetanque.org.uk
SUMMARY:Over 50s Round 1
DESCRIPTION:
URL:https://www.welshpetanque.org.uk/event/over-50s-grand-prix-1/
LOCATION:Leicester Petanque Club\, Western Park\, Hinckley Road\, Leicester\, England\, Western Park\, Hinckley LE3 6HX\, United Kingdom
CATEGORIES:Open Competition
ORGANIZER;CN="Classic Petanque Events":MAILTO:martininglis@hotmail.com
END:VEVENT
BEGIN:VEVENT
DTSTART;TZID=Europe/London:20260117T093000
DTEND;TZID=Europe/London:20260117T163000
DTSTAMP:20260421T145512
CREATED:20250207T084834Z
LAST-MODIFIED:20251130T190329Z
UID:17379-1768642200-1768667400@www.welshpetanque.org.uk
SUMMARY:3-2-1 Series
DESCRIPTION:The 3-2-1 series returns! Each competition starts and finishes with your team playing triples – in between your team splits to play parallel doubles and singles games.\n\nAs with last year\, we are running the 3-2-1 as a competition series. You can enter a single comp or – if you are up for a challenge – you can enter all 3 events. Teams entering more than one event accumulate points towards a season ranking: can your mini-squad take the top spot?\n\nAround 70% of the entry fee for each event will go back as prizes on the day\, with 15% going into the accumulator pot. If we have 12 teams at each event this means 1st\, 2nd\, and 3rd prizes of £60\, £45 and £30 on the day\, with £36 going into the accumulator pot.\n\nEach competition is limited to 12 teams of 3 players*. This is an Open event so no licence is needed. The coffee shop should be open – and they serve good food too – but feel free to bring lunch and flask: the bar will open at 12pm.\n\nRegistration is 9.15 to 9.30. We will play timed games\, and should be wrapped up by 4.30pm.\n\nEntry is £21 per team for each competition\, and is secured by pre-pay only.\n\nTo register\, email caerleon.petanque@yahoo.co.uk – we will send bank info and rules by return\n*teams entering more than one event can include a 4th player for the series – but only 3 can play on the day: but please note rules for teams of 4 which will be sent out in response to email enquiries.
URL:https://www.welshpetanque.org.uk/event/3-2-1-series/
LOCATION:Caerleon RFC PC\, The Clubhouse\, Broadway\, Caerleon\, Newport\, Wales\, NP18 1AY\, United Kingdom
CATEGORIES:Open Competition
ORGANIZER;CN="Caerleon RFC PC":MAILTO:caerleon.petanque@yahoo.co.uk
END:VEVENT
BEGIN:VEVENT
DTSTART;TZID=Europe/London:20251206T093000
DTEND;TZID=Europe/London:20251206T163000
DTSTAMP:20260421T145512
CREATED:20241022T174221Z
LAST-MODIFIED:20251130T190610Z
UID:17045-1765013400-1765038600@www.welshpetanque.org.uk
SUMMARY:3\, 2\, 1 Series
DESCRIPTION:The 3-2-1 series returns! Each competition starts and finishes with your team playing triples – in between your team splits to play parallel doubles and singles games.\n\nAs with last year\, we are running the 3-2-1 as a competition series. You can enter a single comp or – if you are up for a challenge – you can enter all 3 events. Teams entering more than one event accumulate points towards a season ranking: can your mini-squad take the top spot?\n\nAround 70% of the entry fee for each event will go back as prizes on the day\, with 15% going into the accumulator pot. If we have 12 teams at each event this means 1st\, 2nd\, and 3rd prizes of £60\, £45and £30 on the day\, with £36 going into the accumulator pot.\n\nEach competition is limited to 12 teams of 3 players*. This is an Open event so no licence is needed. The coffee shop should be open – and they serve good food too – but feel free to bring lunch and flask: the bar will open at 12pm.\n\nRegistration is 9.15 to 9.30. We will play timed games\, and should be wrapped up by 4.30pm.\n\nEntry is £21 per team for each competition\, and is secured by pre-pay only.\n\nTo register\, email caerleon.petanque@yahoo.co.uk – we will send bank info and rules by return\n*teams entering more than one event can include a 4th player for the series – but only 3 can play on the day: but please note rules for teams of 4 which will be sent out in response to email enquiries.
URL:https://www.welshpetanque.org.uk/event/3-2-1-competition/
LOCATION:Caerleon RFC PC\, The Clubhouse\, Broadway\, Caerleon\, Newport\, Wales\, NP18 1AY\, United Kingdom
CATEGORIES:Open Competition
ORGANIZER;CN="Caerleon RFC PC":MAILTO:caerleon.petanque@yahoo.co.uk
END:VEVENT
BEGIN:VEVENT
DTSTART;TZID=Europe/London:20250817T080000
DTEND;TZID=Europe/London:20250817T170000
DTSTAMP:20260421T145512
CREATED:20250717T170116Z
LAST-MODIFIED:20250717T170133Z
UID:18513-1755417600-1755450000@www.welshpetanque.org.uk
SUMMARY:Vale PC Open Doubles - European Cup Fundraiser
DESCRIPTION:VALE PETANQUE CLUB are holding an Open Doubles event in aid of their European Cup Team who will be travelling to France\nin November to represent Wales. \n \nCash Prizes\, Raffle will be available \nSunday 17th August 2025\nRegistration: 9:00\, start 9:30\nCup and Plate \n£15 per team. \nStation Road East\,\nWenvoe CF5 6AH\nvalepetanque25@gmail.com
URL:https://www.welshpetanque.org.uk/event/vale-pc-open-doubles-european-cup-fundraiser/
LOCATION:Vale Petanque Club\, Wenvoe Playing Fields\, Station Road East\, Wenvoe\, Wales\, CF5 6AH\, United Kingdom
CATEGORIES:Club,European Championship,Open Competition
END:VEVENT
BEGIN:VEVENT
DTSTART;TZID=Europe/London:20250803T090000
DTEND;TZID=Europe/London:20250803T170000
DTSTAMP:20260421T145512
CREATED:20250530T215834Z
LAST-MODIFIED:20250530T215834Z
UID:18227-1754211600-1754240400@www.welshpetanque.org.uk
SUMMARY:Pontyclun Open Triples
DESCRIPTION:An open competition which will allow the Home Nation teams to practice on the pistes that will be used for the following week’s Home Nations event. \nFurther details to follow. \n 
URL:https://www.welshpetanque.org.uk/event/pontyclun-open-triples/
LOCATION:Pontyclun Petanque Club\, Pontyclun Rugby and Sports Club\, Pontyclun\, Wales\, CF729DQ\, United Kingdom
CATEGORIES:Open Competition
ORGANIZER;CN="Pontyclun Petanque Club":MAILTO:pontyclunpc@welshpetanque.org.uk
END:VEVENT
BEGIN:VEVENT
DTSTART;TZID=Europe/London:20250727T080000
DTEND;TZID=Europe/London:20250727T170000
DTSTAMP:20260421T145512
CREATED:20250719T135616Z
LAST-MODIFIED:20250719T135616Z
UID:18526-1753603200-1753635600@www.welshpetanque.org.uk
SUMMARY:Vale PC "Mid Summer" Open Doubles
DESCRIPTION:VALE PETANQUE CLUB are holding an Open Doubles competition on Sunday 27th July as part of a “Mid Summer” series of events – including a Women’s only event on Saturday 26th July. Come and join in !! \nCash Prizes\, Tea and Coffee \nSunday 27th July 2025\nRegistration: 9:00\, start 9:30\nCup and Plate \n£10 per team. \nStation Road East\,\nWenvoe CF5 6AH\nvalepetanque25@gmail.com
URL:https://www.welshpetanque.org.uk/event/vale-pc-mid-summer-open-doubles/
LOCATION:Vale Petanque Club\, Wenvoe Playing Fields\, Station Road East\, Wenvoe\, Wales\, CF5 6AH\, United Kingdom
CATEGORIES:Club,Open Competition
END:VEVENT
BEGIN:VEVENT
DTSTART;VALUE=DATE:20250524
DTEND;VALUE=DATE:20250525
DTSTAMP:20260421T145512
CREATED:20250219T160256Z
LAST-MODIFIED:20250520T160626Z
UID:17642-1748044800-1748131199@www.welshpetanque.org.uk
SUMMARY:Junior/Adult Open Doubles-Postponed
DESCRIPTION:Unfortunately\, this event has had to be postponed due to personal circumstances. However\, the competition will be rescheduled later in the year. \nA junior/adult doubles competition offers numerous benefits for juniors and adults\, fostering growth\, learning\, and community building. Here are some key advantages: \nFor Juniors \n\nSkill Development – Playing alongside an experienced adult helps juniors learn strategies\, positioning\, and decision-making.\nConfidence Boost – Competing with an adult partner provides reassurance\, helping young players build self-confidence.\nMentorship – Juniors receive guidance and constructive feedback\, accelerating their improvement.\nExposure to Competitive Play – It introduces them to a different style of play\, enhancing adaptability.\nSocial Growth – Interacting with adults improves communication skills and sportsmanship.\n\nFor Adults \n\nLeadership and Teaching Opportunities – Adults can mentor juniors\, reinforcing their knowledge.\nFresh Perspective – Playing with juniors brings energy and creativity into their game.\nCommunity Engagement – Strengthens bonds between different generations of players.\nEncourages Patience and Teamwork – Adapting to a junior’s style fosters better communication and cooperation.\nMore Fun & Variety – It provides a unique\, enjoyable challenge compared to regular adult competitions.\n\nWhy not give it a go? Could you put it on your calendars now?
URL:https://www.welshpetanque.org.uk/event/junior-adult-open-doubles/
LOCATION:Monkstone Petanque Club\, The Penylan Club\, Marlborough Road\, Cardiff\, Wales\, CF23 5BU\, United Kingdom
CATEGORIES:Juniors,Members,Open Competition
ORGANIZER;CN="Monkstone PC":MAILTO:secretary@monkstonepetanque.org.uk
END:VEVENT
END:VCALENDAR