BEGIN:VCALENDAR
VERSION:2.0
PRODID:-//Welsh Pétanque Association - ECPv6.15.20//NONSGML v1.0//EN
CALSCALE:GREGORIAN
METHOD:PUBLISH
X-WR-CALNAME:Welsh Pétanque Association
X-ORIGINAL-URL:https://www.welshpetanque.org.uk
X-WR-CALDESC:Events for Welsh Pétanque Association
REFRESH-INTERVAL;VALUE=DURATION:PT1H
X-Robots-Tag:noindex
X-PUBLISHED-TTL:PT1H
BEGIN:VTIMEZONE
TZID:Europe/London
BEGIN:DAYLIGHT
TZOFFSETFROM:+0000
TZOFFSETTO:+0100
TZNAME:BST
DTSTART:20250330T010000
END:DAYLIGHT
BEGIN:STANDARD
TZOFFSETFROM:+0100
TZOFFSETTO:+0000
TZNAME:GMT
DTSTART:20251026T010000
END:STANDARD
BEGIN:DAYLIGHT
TZOFFSETFROM:+0000
TZOFFSETTO:+0100
TZNAME:BST
DTSTART:20260329T010000
END:DAYLIGHT
BEGIN:STANDARD
TZOFFSETFROM:+0100
TZOFFSETTO:+0000
TZNAME:GMT
DTSTART:20261025T010000
END:STANDARD
BEGIN:DAYLIGHT
TZOFFSETFROM:+0000
TZOFFSETTO:+0100
TZNAME:BST
DTSTART:20270328T010000
END:DAYLIGHT
BEGIN:STANDARD
TZOFFSETFROM:+0100
TZOFFSETTO:+0000
TZNAME:GMT
DTSTART:20271031T010000
END:STANDARD
END:VTIMEZONE
BEGIN:VEVENT
DTSTART;VALUE=DATE:20260426
DTEND;VALUE=DATE:20260427
DTSTAMP:20260421T114840
CREATED:20241118T124749Z
LAST-MODIFIED:20251120T142406Z
UID:17174-1777161600-1777247999@www.welshpetanque.org.uk
SUMMARY:Colin Ballett Open Doubles
DESCRIPTION:
URL:https://www.welshpetanque.org.uk/event/colin-ballett-open-doubles/
LOCATION:Vale Petanque Club\, Wenvoe Playing Fields\, Station Road East\, Wenvoe\, Wales\, CF5 6AH\, United Kingdom
CATEGORIES:Open Competition
END:VEVENT
BEGIN:VEVENT
DTSTART;TZID=Europe/London:20260503T100000
DTEND;TZID=Europe/London:20260503T170000
DTSTAMP:20260421T114840
CREATED:20250105T204941Z
LAST-MODIFIED:20251120T101906Z
UID:17269-1777802400-1777827600@www.welshpetanque.org.uk
SUMMARY:2nd Harlequin Open - Triples
DESCRIPTION:The second Harlequin Open Triples is being held on Sunday\, 3rd May.  \nThe contact for any enquiries about this event is Phil Freegard (Harlequins PC Chairman) 07950 020463 \nTo register your team\, please click here. \n 
URL:https://www.welshpetanque.org.uk/event/harlequin-open-triples/
LOCATION:Harlequins Pétanque club\, Cardiff Harlequins RFC\, Diamond Ground\, Cardiff\, CF14 7JN
CATEGORIES:Open Competition
ORGANIZER;CN="Harlequins P%C3%A9tanque Club":MAILTO:harlequinspc@welshpetanque.org.uk
END:VEVENT
BEGIN:VEVENT
DTSTART;VALUE=DATE:20260524
DTEND;VALUE=DATE:20260525
DTSTAMP:20260421T114840
CREATED:20240906T111341Z
LAST-MODIFIED:20251117T114300Z
UID:16655-1779580800-1779667199@www.welshpetanque.org.uk
SUMMARY:Liss-vye-naze International Doubles Petanque Tournament
DESCRIPTION:32 Team Limit – £18 per team – Cash Prizes \nEntries open on the 1st of November 2025 and close on the 15th May 2026. \nThe Competition format will be decided when the entries have been finalised\, at least four games. \nRegistration 08h30 to start 09h00\n\n\n\n  \n  \n  \n  \n  \n  \n  \nContact Christine Parry at liss_vye_nazepetanque@aol.com
URL:https://www.welshpetanque.org.uk/event/liss-vye-naze-international-doubles-petanque-tournament/
LOCATION:Llysfaen Petanque Club\, LCRA Sports Grounds\, Dolwen Road\, Llysfaen\, Wales\, LL29 8NU\, United Kingdom
CATEGORIES:Open Competition
ORGANIZER;CN="Llysfaen Petanque Club":MAILTO:llysfaenpetanqueclub@yahoo.com
END:VEVENT
BEGIN:VEVENT
DTSTART;VALUE=DATE:20260613
DTEND;VALUE=DATE:20260614
DTSTAMP:20260421T114840
CREATED:20240918T172141Z
LAST-MODIFIED:20251229T163623Z
UID:16764-1781308800-1781395199@www.welshpetanque.org.uk
SUMMARY:Peter Westall Novice Cup
DESCRIPTION: 
URL:https://www.welshpetanque.org.uk/event/peter-westall-novice-cup/
LOCATION:The City of Llandaff Petanque Club\, The Boathouse\, Bridge Rd\, Cardiff\, Wales\, CF5 2PT\, United Kingdom
CATEGORIES:Open Competition
ORGANIZER;CN="WPA":MAILTO:secretary@welshpetanque.org.uk
END:VEVENT
BEGIN:VEVENT
DTSTART;VALUE=DATE:20260614
DTEND;VALUE=DATE:20260615
DTSTAMP:20260421T114840
CREATED:20240918T172035Z
LAST-MODIFIED:20251229T164420Z
UID:16766-1781395200-1781481599@www.welshpetanque.org.uk
SUMMARY:Peter Westall Cup
DESCRIPTION: 
URL:https://www.welshpetanque.org.uk/event/peter-westall-cup/
LOCATION:The City of Llandaff Petanque Club\, The Boathouse\, Bridge Rd\, Cardiff\, Wales\, CF5 2PT\, United Kingdom
CATEGORIES:Open Competition
ORGANIZER;CN="WPA":MAILTO:secretary@welshpetanque.org.uk
END:VEVENT
BEGIN:VEVENT
DTSTART;VALUE=DATE:20260621
DTEND;VALUE=DATE:20260622
DTSTAMP:20260421T114840
CREATED:20241118T125600Z
LAST-MODIFIED:20251118T165028Z
UID:17181-1782000000-1782086399@www.welshpetanque.org.uk
SUMMARY:Monkstone Open Triples
DESCRIPTION:
URL:https://www.welshpetanque.org.uk/event/open-triples/
LOCATION:Monkstone Petanque Club\, The Penylan Club\, Marlborough Road\, Cardiff\, Wales\, CF23 5BU\, United Kingdom
CATEGORIES:Open Competition
ORGANIZER;CN="Monkstone PC":MAILTO:secretary@monkstonepetanque.org.uk
END:VEVENT
BEGIN:VEVENT
DTSTART;VALUE=DATE:20260711
DTEND;VALUE=DATE:20260712
DTSTAMP:20260421T114840
CREATED:20240918T170811Z
LAST-MODIFIED:20251117T105411Z
UID:16748-1783728000-1783814399@www.welshpetanque.org.uk
SUMMARY:Bastille Day
DESCRIPTION:
URL:https://www.welshpetanque.org.uk/event/bastille-day/
LOCATION:Caerleon RFC PC\, The Clubhouse\, Broadway\, Caerleon\, Newport\, Wales\, NP18 1AY\, United Kingdom
CATEGORIES:Open Competition
ORGANIZER;CN="Caerleon RFC PC":MAILTO:caerleon.petanque@yahoo.co.uk
END:VEVENT
BEGIN:VEVENT
DTSTART;VALUE=DATE:20260712
DTEND;VALUE=DATE:20260713
DTSTAMP:20260421T114840
CREATED:20240918T171551Z
LAST-MODIFIED:20251117T112538Z
UID:16752-1783814400-1783900799@www.welshpetanque.org.uk
SUMMARY:Caerleon Open Triples
DESCRIPTION:
URL:https://www.welshpetanque.org.uk/event/caerleon-open-triples/
LOCATION:Caerleon RFC PC\, The Clubhouse\, Broadway\, Caerleon\, Newport\, Wales\, NP18 1AY\, United Kingdom
CATEGORIES:Open Competition
ORGANIZER;CN="Caerleon RFC PC":MAILTO:caerleon.petanque@yahoo.co.uk
END:VEVENT
BEGIN:VEVENT
DTSTART;VALUE=DATE:20260719
DTEND;VALUE=DATE:20260720
DTSTAMP:20260421T114840
CREATED:20251118T165702Z
LAST-MODIFIED:20260301T193655Z
UID:18956-1784419200-1784505599@www.welshpetanque.org.uk
SUMMARY:Wenvoe 50th Anniversary Competition
DESCRIPTION:
URL:https://www.welshpetanque.org.uk/event/wenvoe-50th-anniversary-competition/
LOCATION:Dinas Powys Athletic Club\, Southra\, Dinas Powys\, Wales\, CF64 4DL\, United Kingdom
CATEGORIES:Club,Open Competition
ORGANIZER;CN="Wenvoe PC":MAILTO:wenvoepc@welshpetanque.org.uk
END:VEVENT
BEGIN:VEVENT
DTSTART;VALUE=DATE:20260726
DTEND;VALUE=DATE:20260727
DTSTAMP:20260421T114840
CREATED:20251212T165210Z
LAST-MODIFIED:20251212T165349Z
UID:18995-1785024000-1785110399@www.welshpetanque.org.uk
SUMMARY:Mid-Summer Open Doubles
DESCRIPTION:
URL:https://www.welshpetanque.org.uk/event/mid-summer-open-double/
LOCATION:Vale Petanque Club\, Wenvoe Playing Fields\, Station Road East\, Wenvoe\, Wales\, CF5 6AH\, United Kingdom
CATEGORIES:Club,Open Competition
END:VEVENT
BEGIN:VEVENT
DTSTART;VALUE=DATE:20260815
DTEND;VALUE=DATE:20260816
DTSTAMP:20260421T114840
CREATED:20251212T165909Z
LAST-MODIFIED:20251212T165909Z
UID:18998-1786752000-1786838399@www.welshpetanque.org.uk
SUMMARY:Vale Open Doubles
DESCRIPTION:
URL:https://www.welshpetanque.org.uk/event/vale-open-doubles/
LOCATION:Vale Petanque Club\, Wenvoe Playing Fields\, Station Road East\, Wenvoe\, Wales\, CF5 6AH\, United Kingdom
CATEGORIES:Club,Open Competition
END:VEVENT
BEGIN:VEVENT
DTSTART;VALUE=DATE:20260816
DTEND;VALUE=DATE:20260817
DTSTAMP:20260421T114840
CREATED:20241118T124943Z
LAST-MODIFIED:20251120T142928Z
UID:17176-1786838400-1786924799@www.welshpetanque.org.uk
SUMMARY:Women's Open Doubles
DESCRIPTION:  \n  \n 
URL:https://www.welshpetanque.org.uk/event/womens-open-doubles/
LOCATION:Vale Petanque Club\, Wenvoe Playing Fields\, Station Road East\, Wenvoe\, Wales\, CF5 6AH\, United Kingdom
CATEGORIES:Club,Open Competition
END:VEVENT
BEGIN:VEVENT
DTSTART;VALUE=DATE:20260823
DTEND;VALUE=DATE:20260824
DTSTAMP:20260421T114840
CREATED:20241213T183831Z
LAST-MODIFIED:20260301T194140Z
UID:17211-1787443200-1787529599@www.welshpetanque.org.uk
SUMMARY:Austin Jones Open Triples
DESCRIPTION:
URL:https://www.welshpetanque.org.uk/event/austin-jones-open-triples/
LOCATION:Brecon RFC PC\, 63 The Watton\, Brecon\, Wales\, LD3 7EL\, United Kingdom
CATEGORIES:Open Competition
ORGANIZER;CN="Brecon RFC PC":MAILTO:breconrfcpc@welshpetanque.org.uk
END:VEVENT
BEGIN:VEVENT
DTSTART;VALUE=DATE:20260830
DTEND;VALUE=DATE:20260831
DTSTAMP:20260421T114840
CREATED:20241111T102637Z
LAST-MODIFIED:20260301T192952Z
UID:17150-1788048000-1788134399@www.welshpetanque.org.uk
SUMMARY:45th Wenvoe Welsh Open Triples
DESCRIPTION:
URL:https://www.welshpetanque.org.uk/event/44th-wenvoe-welsh-open-triples/
LOCATION:Dinas Powys Athletic Club\, Southra\, Dinas Powys\, Wales\, CF64 4DL\, United Kingdom
CATEGORIES:Open Competition
ORGANIZER;CN="Wenvoe PC":MAILTO:wenvoepc@welshpetanque.org.uk
END:VEVENT
BEGIN:VEVENT
DTSTART;VALUE=DATE:20260919
DTEND;VALUE=DATE:20260920
DTSTAMP:20260421T114840
CREATED:20251212T170110Z
LAST-MODIFIED:20251212T170110Z
UID:19000-1789776000-1789862399@www.welshpetanque.org.uk
SUMMARY:Vale Autumn Doubles
DESCRIPTION:
URL:https://www.welshpetanque.org.uk/event/vale-autumn-doubles/
LOCATION:Vale Petanque Club\, Wenvoe Playing Fields\, Station Road East\, Wenvoe\, Wales\, CF5 6AH\, United Kingdom
CATEGORIES:Club,Open Competition
END:VEVENT
BEGIN:VEVENT
DTSTART;VALUE=DATE:20261003
DTEND;VALUE=DATE:20261004
DTSTAMP:20260421T114840
CREATED:20241118T124253Z
LAST-MODIFIED:20251120T142604Z
UID:17169-1790985600-1791071999@www.welshpetanque.org.uk
SUMMARY:Vale PC Charity Open Triples
DESCRIPTION:
URL:https://www.welshpetanque.org.uk/event/charity-open-triples/
LOCATION:Vale Petanque Club\, Wenvoe Playing Fields\, Station Road East\, Wenvoe\, Wales\, CF5 6AH\, United Kingdom
CATEGORIES:Open Competition
END:VEVENT
END:VCALENDAR