BEGIN:VCALENDAR
VERSION:2.0
PRODID:-//Welsh Pétanque Association - ECPv6.15.20//NONSGML v1.0//EN
CALSCALE:GREGORIAN
METHOD:PUBLISH
X-ORIGINAL-URL:https://www.welshpetanque.org.uk
X-WR-CALDESC:Events for Welsh Pétanque Association
REFRESH-INTERVAL;VALUE=DURATION:PT1H
X-Robots-Tag:noindex
X-PUBLISHED-TTL:PT1H
BEGIN:VTIMEZONE
TZID:Europe/London
BEGIN:DAYLIGHT
TZOFFSETFROM:+0000
TZOFFSETTO:+0100
TZNAME:BST
DTSTART:20240331T010000
END:DAYLIGHT
BEGIN:STANDARD
TZOFFSETFROM:+0100
TZOFFSETTO:+0000
TZNAME:GMT
DTSTART:20241027T010000
END:STANDARD
BEGIN:DAYLIGHT
TZOFFSETFROM:+0000
TZOFFSETTO:+0100
TZNAME:BST
DTSTART:20250330T010000
END:DAYLIGHT
BEGIN:STANDARD
TZOFFSETFROM:+0100
TZOFFSETTO:+0000
TZNAME:GMT
DTSTART:20251026T010000
END:STANDARD
BEGIN:DAYLIGHT
TZOFFSETFROM:+0000
TZOFFSETTO:+0100
TZNAME:BST
DTSTART:20260329T010000
END:DAYLIGHT
BEGIN:STANDARD
TZOFFSETFROM:+0100
TZOFFSETTO:+0000
TZNAME:GMT
DTSTART:20261025T010000
END:STANDARD
END:VTIMEZONE
BEGIN:VEVENT
DTSTART;TZID=Europe/London:20250817T080000
DTEND;TZID=Europe/London:20250817T170000
DTSTAMP:20260421T144411
CREATED:20250717T170116Z
LAST-MODIFIED:20250717T170133Z
UID:18513-1755417600-1755450000@www.welshpetanque.org.uk
SUMMARY:Vale PC Open Doubles - European Cup Fundraiser
DESCRIPTION:VALE PETANQUE CLUB are holding an Open Doubles event in aid of their European Cup Team who will be travelling to France\nin November to represent Wales. \n \nCash Prizes\, Raffle will be available \nSunday 17th August 2025\nRegistration: 9:00\, start 9:30\nCup and Plate \n£15 per team. \nStation Road East\,\nWenvoe CF5 6AH\nvalepetanque25@gmail.com
URL:https://www.welshpetanque.org.uk/event/vale-pc-open-doubles-european-cup-fundraiser/
LOCATION:Vale Petanque Club\, Wenvoe Playing Fields\, Station Road East\, Wenvoe\, Wales\, CF5 6AH\, United Kingdom
CATEGORIES:Club,European Championship,Open Competition
END:VEVENT
BEGIN:VEVENT
DTSTART;TZID=Europe/London:20250803T090000
DTEND;TZID=Europe/London:20250803T170000
DTSTAMP:20260421T144411
CREATED:20250530T215834Z
LAST-MODIFIED:20250530T215834Z
UID:18227-1754211600-1754240400@www.welshpetanque.org.uk
SUMMARY:Pontyclun Open Triples
DESCRIPTION:An open competition which will allow the Home Nation teams to practice on the pistes that will be used for the following week’s Home Nations event. \nFurther details to follow. \n 
URL:https://www.welshpetanque.org.uk/event/pontyclun-open-triples/
LOCATION:Pontyclun Petanque Club\, Pontyclun Rugby and Sports Club\, Pontyclun\, Wales\, CF729DQ\, United Kingdom
CATEGORIES:Open Competition
ORGANIZER;CN="Pontyclun Petanque Club":MAILTO:pontyclunpc@welshpetanque.org.uk
END:VEVENT
BEGIN:VEVENT
DTSTART;TZID=Europe/London:20250727T080000
DTEND;TZID=Europe/London:20250727T170000
DTSTAMP:20260421T144411
CREATED:20250719T135616Z
LAST-MODIFIED:20250719T135616Z
UID:18526-1753603200-1753635600@www.welshpetanque.org.uk
SUMMARY:Vale PC "Mid Summer" Open Doubles
DESCRIPTION:VALE PETANQUE CLUB are holding an Open Doubles competition on Sunday 27th July as part of a “Mid Summer” series of events – including a Women’s only event on Saturday 26th July. Come and join in !! \nCash Prizes\, Tea and Coffee \nSunday 27th July 2025\nRegistration: 9:00\, start 9:30\nCup and Plate \n£10 per team. \nStation Road East\,\nWenvoe CF5 6AH\nvalepetanque25@gmail.com
URL:https://www.welshpetanque.org.uk/event/vale-pc-mid-summer-open-doubles/
LOCATION:Vale Petanque Club\, Wenvoe Playing Fields\, Station Road East\, Wenvoe\, Wales\, CF5 6AH\, United Kingdom
CATEGORIES:Club,Open Competition
END:VEVENT
BEGIN:VEVENT
DTSTART;VALUE=DATE:20250524
DTEND;VALUE=DATE:20250525
DTSTAMP:20260421T144411
CREATED:20250219T160256Z
LAST-MODIFIED:20250520T160626Z
UID:17642-1748044800-1748131199@www.welshpetanque.org.uk
SUMMARY:Junior/Adult Open Doubles-Postponed
DESCRIPTION:Unfortunately\, this event has had to be postponed due to personal circumstances. However\, the competition will be rescheduled later in the year. \nA junior/adult doubles competition offers numerous benefits for juniors and adults\, fostering growth\, learning\, and community building. Here are some key advantages: \nFor Juniors \n\nSkill Development – Playing alongside an experienced adult helps juniors learn strategies\, positioning\, and decision-making.\nConfidence Boost – Competing with an adult partner provides reassurance\, helping young players build self-confidence.\nMentorship – Juniors receive guidance and constructive feedback\, accelerating their improvement.\nExposure to Competitive Play – It introduces them to a different style of play\, enhancing adaptability.\nSocial Growth – Interacting with adults improves communication skills and sportsmanship.\n\nFor Adults \n\nLeadership and Teaching Opportunities – Adults can mentor juniors\, reinforcing their knowledge.\nFresh Perspective – Playing with juniors brings energy and creativity into their game.\nCommunity Engagement – Strengthens bonds between different generations of players.\nEncourages Patience and Teamwork – Adapting to a junior’s style fosters better communication and cooperation.\nMore Fun & Variety – It provides a unique\, enjoyable challenge compared to regular adult competitions.\n\nWhy not give it a go? Could you put it on your calendars now?
URL:https://www.welshpetanque.org.uk/event/junior-adult-open-doubles/
LOCATION:Monkstone Petanque Club\, The Penylan Club\, Marlborough Road\, Cardiff\, Wales\, CF23 5BU\, United Kingdom
CATEGORIES:Juniors,Members,Open Competition
ORGANIZER;CN="Monkstone PC":MAILTO:secretary@monkstonepetanque.org.uk
END:VEVENT
END:VCALENDAR