BEGIN:VCALENDAR
VERSION:2.0
PRODID:-//Welsh Pétanque Association - ECPv6.15.20//NONSGML v1.0//EN
CALSCALE:GREGORIAN
METHOD:PUBLISH
X-WR-CALNAME:Welsh Pétanque Association
X-ORIGINAL-URL:https://www.welshpetanque.org.uk
X-WR-CALDESC:Events for Welsh Pétanque Association
REFRESH-INTERVAL;VALUE=DURATION:PT1H
X-Robots-Tag:noindex
X-PUBLISHED-TTL:PT1H
BEGIN:VTIMEZONE
TZID:Europe/London
BEGIN:DAYLIGHT
TZOFFSETFROM:+0000
TZOFFSETTO:+0100
TZNAME:BST
DTSTART:20230326T010000
END:DAYLIGHT
BEGIN:STANDARD
TZOFFSETFROM:+0100
TZOFFSETTO:+0000
TZNAME:GMT
DTSTART:20231029T010000
END:STANDARD
BEGIN:DAYLIGHT
TZOFFSETFROM:+0000
TZOFFSETTO:+0100
TZNAME:BST
DTSTART:20240331T010000
END:DAYLIGHT
BEGIN:STANDARD
TZOFFSETFROM:+0100
TZOFFSETTO:+0000
TZNAME:GMT
DTSTART:20241027T010000
END:STANDARD
BEGIN:DAYLIGHT
TZOFFSETFROM:+0000
TZOFFSETTO:+0100
TZNAME:BST
DTSTART:20250330T010000
END:DAYLIGHT
BEGIN:STANDARD
TZOFFSETFROM:+0100
TZOFFSETTO:+0000
TZNAME:GMT
DTSTART:20251026T010000
END:STANDARD
END:VTIMEZONE
BEGIN:VEVENT
DTSTART;TZID=Europe/London:20241026T100000
DTEND;TZID=Europe/London:20241026T150000
DTSTAMP:20260421T131802
CREATED:20241011T132233Z
LAST-MODIFIED:20241011T132855Z
UID:17019-1729936800-1729954800@www.welshpetanque.org.uk
SUMMARY:Junior Taster Session
DESCRIPTION:Event Details: \nDate: Saturday\, 26th October 2024 \nTime: 10:00 am start \nLocation: Monkstone Petanque Club\, Sandringham Road\, Pen-y-Lan\, Cardiff \nAge Group: 8 to 17 years \nCost: Free (coaching\, equipment\, and refreshments provided) \nFor more information or to register\, head to the event or contact the club directly. Don’t miss this chance to experience the fun and excitement of pétanque!
URL:https://www.welshpetanque.org.uk/event/junior-taster-session/
LOCATION:Monkstone Petanque Club\, The Penylan Club\, Marlborough Road\, Cardiff\, Wales\, CF23 5BU\, United Kingdom
CATEGORIES:Juniors,Open Days
ORGANIZER;CN="Monkstone Junior Section":MAILTO:ashpaul717@gmail.com
END:VEVENT
END:VCALENDAR