BEGIN:VCALENDAR
VERSION:2.0
PRODID:-//Welsh Pétanque Association - ECPv6.15.20//NONSGML v1.0//EN
CALSCALE:GREGORIAN
METHOD:PUBLISH
X-WR-CALNAME:Welsh Pétanque Association
X-ORIGINAL-URL:https://www.welshpetanque.org.uk
X-WR-CALDESC:Events for Welsh Pétanque Association
REFRESH-INTERVAL;VALUE=DURATION:PT1H
X-Robots-Tag:noindex
X-PUBLISHED-TTL:PT1H
BEGIN:VTIMEZONE
TZID:Europe/London
BEGIN:DAYLIGHT
TZOFFSETFROM:+0000
TZOFFSETTO:+0100
TZNAME:BST
DTSTART:20230326T010000
END:DAYLIGHT
BEGIN:STANDARD
TZOFFSETFROM:+0100
TZOFFSETTO:+0000
TZNAME:GMT
DTSTART:20231029T010000
END:STANDARD
BEGIN:DAYLIGHT
TZOFFSETFROM:+0000
TZOFFSETTO:+0100
TZNAME:BST
DTSTART:20240331T010000
END:DAYLIGHT
BEGIN:STANDARD
TZOFFSETFROM:+0100
TZOFFSETTO:+0000
TZNAME:GMT
DTSTART:20241027T010000
END:STANDARD
BEGIN:DAYLIGHT
TZOFFSETFROM:+0000
TZOFFSETTO:+0100
TZNAME:BST
DTSTART:20250330T010000
END:DAYLIGHT
BEGIN:STANDARD
TZOFFSETFROM:+0100
TZOFFSETTO:+0000
TZNAME:GMT
DTSTART:20251026T010000
END:STANDARD
END:VTIMEZONE
BEGIN:VEVENT
DTSTART;VALUE=DATE:20240921
DTEND;VALUE=DATE:20240923
DTSTAMP:20260421T052233
CREATED:20240905T142544Z
LAST-MODIFIED:20240920T152756Z
UID:16623-1726876800-1727049599@www.welshpetanque.org.uk
SUMMARY:2025 Celtic Challenge Qualifier
DESCRIPTION:Registration for the 2025 Celtic Challenge Qualifier is now closed. \nRegistration closed at midnight on Sunday\, 15th September 2024. \n\n\n\n\n£7.00 per player\n\n\n\nClick here to download the Rules of Entry for WPA Events and Competitions. \nA message from Caerleon RFC PC – On both days\, bacon rolls will be available to purchase. Also\, tea/coffee will be provided\, but bring your cup/mug along. \nRules of Play: \n\nFIPJP rules\nGames will not be timed\nLanes will be allocated\n\nNumber of Teams:  12 \nPlay Begins:  \n\nSaturday: 10h00 – latest\nSunday: 10h00\n\nCompetition Format: Complete Round-Robin. \n\nSaturday: Rounds 1 to 6\nSunday: Rounds 7 to 11\n\nLunch (45 minutes duration) after Rounds 3 (Saturday) and 9 (Sunday). \nTeams will be ranked 1 to 12 using: \n\nWins\,\nPoints difference\nPoints +\n\nIf two teams are still tied\, then the result of the match between the two teams will be used to separate them. \nREMEMBER MATCHING TOPS ARE REQUIRED.
URL:https://www.welshpetanque.org.uk/event/2025-celtic-challenge-qualifier/
LOCATION:Caerleon RFC PC\, The Clubhouse\, Broadway\, Caerleon\, Newport\, Wales\, NP18 1AY\, United Kingdom
CATEGORIES:Qualifier
ORGANIZER;CN="WPA":MAILTO:secretary@welshpetanque.org.uk
END:VEVENT
BEGIN:VEVENT
DTSTART;VALUE=DATE:20240914
DTEND;VALUE=DATE:20240916
DTSTAMP:20260421T052233
CREATED:20240905T141337Z
LAST-MODIFIED:20240906T112847Z
UID:16619-1726272000-1726444799@www.welshpetanque.org.uk
SUMMARY:PE Inter-Regional Championship & Challenge Cup
DESCRIPTION:
URL:https://www.welshpetanque.org.uk/event/pe-inter-regional-championship-challenge-cup/
LOCATION:Pakefield Holiday Village\, Arbor lane\, Pakefield\, Lowestoft\, England\, NR33 7BE\, United Kingdom
CATEGORIES:Invitational Event
END:VEVENT
BEGIN:VEVENT
DTSTART;TZID=Europe/London:20240908T130000
DTEND;TZID=Europe/London:20240908T140000
DTSTAMP:20260421T052233
CREATED:20240905T151039Z
LAST-MODIFIED:20240905T151039Z
UID:16635-1725800400-1725804000@www.welshpetanque.org.uk
SUMMARY:League Division 1 and 2 Presentation
DESCRIPTION:
URL:https://www.welshpetanque.org.uk/event/league-division-1-and-2-presentation/
LOCATION:Ystradowen Petanque Club\, The Village Hall\, Ystradowen\, Wales\, CF71 7SY\, United Kingdom
CATEGORIES:WPA League
ORGANIZER;CN="WPA":MAILTO:secretary@welshpetanque.org.uk
END:VEVENT
BEGIN:VEVENT
DTSTART;TZID=Europe/London:20240908T100000
DTEND;TZID=Europe/London:20240908T160000
DTSTAMP:20260421T052233
CREATED:20240905T125143Z
LAST-MODIFIED:20240905T140338Z
UID:16611-1725789600-1725811200@www.welshpetanque.org.uk
SUMMARY:League Cup & Plate Final
DESCRIPTION:
URL:https://www.welshpetanque.org.uk/event/league-cup-plate-final/
LOCATION:Ystradowen Petanque Club\, The Village Hall\, Ystradowen\, Wales\, CF71 7SY\, United Kingdom
CATEGORIES:WPA League
ORGANIZER;CN="WPA":MAILTO:secretary@welshpetanque.org.uk
END:VEVENT
END:VCALENDAR